BEGIN:VCALENDAR
VERSION:2.0
PRODID:-//Flagstaff Hill Football Club - ECPv5.0.0.1//NONSGML v1.0//EN
CALSCALE:GREGORIAN
METHOD:PUBLISH
X-WR-CALNAME:Flagstaff Hill Football Club
X-ORIGINAL-URL:http://www.fhfc.com.au
X-WR-CALDESC:Events for Flagstaff Hill Football Club
BEGIN:VTIMEZONE
TZID:Australia/Adelaide
BEGIN:STANDARD
TZOFFSETFROM:+1030
TZOFFSETTO:+0930
TZNAME:ACST
DTSTART:20200404T163000
END:STANDARD
BEGIN:DAYLIGHT
TZOFFSETFROM:+0930
TZOFFSETTO:+1030
TZNAME:ACDT
DTSTART:20201003T163000
END:DAYLIGHT
END:VTIMEZONE
BEGIN:VEVENT
DTSTART;TZID=Australia/Adelaide:20200404T081500
DTEND;TZID=Australia/Adelaide:20200404T173000
DTSTAMP:20200301T163719
CREATED:20200203T032836Z
LAST-MODIFIED:20200203T033507Z
UID:3955-1585988100-1586021400@www.fhfc.com.au
SUMMARY:Round 1: Flagstaff Hill vs Reynella
DESCRIPTION:\n\n\nHome Game: Flagstaff Hill Football Club  \n\n\n\n\n\n\n\n\n\n\n
URL:http://www.fhfc.com.au/event/flagstaff-hill-vs-reynella/
END:VEVENT
BEGIN:VEVENT
DTSTART;TZID=Australia/Adelaide:20200418T081500
DTEND;TZID=Australia/Adelaide:20200418T173000
DTSTAMP:20200301T163719
CREATED:20200203T033001Z
LAST-MODIFIED:20200203T033549Z
UID:3957-1587197700-1587231000@www.fhfc.com.au
SUMMARY:Round 2: Aldinga vs Flagstaff Hill
DESCRIPTION:\n\n\nAway: Aldinga Football Club \n\n\n\n\n\n\n\n\n\n\n
URL:http://www.fhfc.com.au/event/aldinga-vs-flagstaff-hill/
END:VEVENT
BEGIN:VEVENT
DTSTART;TZID=Australia/Adelaide:20200426T081500
DTEND;TZID=Australia/Adelaide:20200426T173000
DTSTAMP:20200301T163719
CREATED:20200203T033651Z
LAST-MODIFIED:20200203T040243Z
UID:3962-1587888900-1587922200@www.fhfc.com.au
SUMMARY:Round 3: Flagstaff Hill vs Noarlunga: Diggers Day
DESCRIPTION:\n\n\nDiggers DayHome: Flagstaff Hill Football Club \n\n\n\n\n\n\n\n\n\n\n
URL:http://www.fhfc.com.au/event/round-3-flagstaff-hill-vs-noarlunga/
END:VEVENT
BEGIN:VEVENT
DTSTART;TZID=Australia/Adelaide:20200502T081500
DTEND;TZID=Australia/Adelaide:20200502T173000
DTSTAMP:20200301T163719
CREATED:20200203T040455Z
LAST-MODIFIED:20200203T040501Z
UID:3965-1588407300-1588440600@www.fhfc.com.au
SUMMARY:Round 4: Happy Valley vs Flagstaff Hill
DESCRIPTION:\n\n\nAway: Happy Valley Football Club \n\n\n\n\n\n\n\n\n\n\n
URL:http://www.fhfc.com.au/event/round-4-happy-valley-vs-flagstaff-hill/
END:VEVENT
BEGIN:VEVENT
DTSTART;TZID=Australia/Adelaide:20200509T081500
DTEND;TZID=Australia/Adelaide:20200509T173000
DTSTAMP:20200301T163719
CREATED:20200203T040640Z
LAST-MODIFIED:20200203T040644Z
UID:3967-1589012100-1589045400@www.fhfc.com.au
SUMMARY:Round 5: Flagstaff Hill vs Christies Beach
DESCRIPTION:\n\n\nHome: Flagstaff Hill Football Club \n\n\n\n\n\n\n\n\n\n\n
URL:http://www.fhfc.com.au/event/round-5-flagstaff-hill-vs-christies-beach/
END:VEVENT
END:VCALENDAR